BEGIN:VCALENDAR
VERSION:2.0
PRODID:-//hacksw/handcal//NONSGML v1.0//EN
BEGIN:VEVENT
UID:8ba4441ca0d12b99f63c6ad260625d45@yourhost.test
DTSTAMP:20260421T095717Z
DTSTART:20130504
DTEND:20241231
SUMMARY:Besøk Rasmus Meyers samlinger
END:VEVENT
END:VCALENDAR