BEGIN:VCALENDAR
VERSION:2.0
PRODID:-//hacksw/handcal//NONSGML v1.0//EN
BEGIN:VEVENT
UID:b0353e99af20a5265409dae1d53cc02d@yourhost.test
DTSTAMP:20260422T085641Z
DTSTART:20130420
DTEND:20130804
SUMMARY:Larry Clark - Teenage Lust
END:VEVENT
END:VCALENDAR