BEGIN:VCALENDAR
VERSION:2.0
PRODID:-//hacksw/handcal//NONSGML v1.0//EN
BEGIN:VEVENT
UID:e2957860e4c463a8be77be941cf9fa8d@yourhost.test
DTSTAMP:20260422T084515Z
DTSTART:20120316
DTEND:20120527
SUMMARY:Per Inge Bjørlo retrospektiv
END:VEVENT
END:VCALENDAR