BEGIN:VCALENDAR
VERSION:2.0
PRODID:-//hacksw/handcal//NONSGML v1.0//EN
BEGIN:VEVENT
UID:dbf8688588fdce6cc5b267c77e0bcbd7@yourhost.test
DTSTAMP:20260421T095551Z
DTSTART:20190909
DTEND:20200831
SUMMARY:Bestillingsverk: Lawrence Weiner
END:VEVENT
END:VCALENDAR