BEGIN:VCALENDAR
VERSION:2.0
PRODID:-//hacksw/handcal//NONSGML v1.0//EN
BEGIN:VEVENT
UID:aebfc5e6e8d66dff7e2f1d59ce75daa1@yourhost.test
DTSTAMP:20260422T104116Z
DTSTART:20210123
DTEND:20210502
SUMMARY:Thomas Pihl: Sight Specific
END:VEVENT
END:VCALENDAR