BEGIN:VCALENDAR
VERSION:2.0
PRODID:-//hacksw/handcal//NONSGML v1.0//EN
BEGIN:VEVENT
UID:8180a8eafb94cb945ad3b41543d0a88f@yourhost.test
DTSTAMP:20260422T085044Z
DTSTART:20180622
DTEND:20181021
SUMMARY:Therese Christensen 
END:VEVENT
END:VCALENDAR