BEGIN:VCALENDAR
VERSION:2.0
PRODID:-//hacksw/handcal//NONSGML v1.0//EN
BEGIN:VEVENT
UID:08f24ee006efd49740987c8ed227bdef@yourhost.test
DTSTAMP:20260422T085733Z
DTSTART:20200821
DTEND:20200913
SUMMARY:MFA Exhibition 2020
END:VEVENT
END:VCALENDAR