BEGIN:VCALENDAR
VERSION:2.0
PRODID:-//hacksw/handcal//NONSGML v1.0//EN
BEGIN:VEVENT
UID:61ac71e0da3ad4771a46b0afdc1f7ed7@yourhost.test
DTSTAMP:20260422T084917Z
DTSTART:20120928
DTEND:20130127
SUMMARY:Material Information
END:VEVENT
END:VCALENDAR