BEGIN:VCALENDAR
VERSION:2.0
PRODID:-//hacksw/handcal//NONSGML v1.0//EN
BEGIN:VEVENT
UID:b4445fdb56982e92e13bbbd24944a968@yourhost.test
DTSTAMP:20260422T104329Z
DTSTART:20120519
DTEND:20200831
SUMMARY:International Modernism
END:VEVENT
END:VCALENDAR