BEGIN:VCALENDAR
VERSION:2.0
PRODID:-//hacksw/handcal//NONSGML v1.0//EN
BEGIN:VEVENT
UID:c8d84ce2bfdc44af1b860d1e662b249e@yourhost.test
DTSTAMP:20260420T092534Z
DTSTART:20190906
DTEND:20200119
SUMMARY:Munch. There are Worlds Within Us
END:VEVENT
END:VCALENDAR