BEGIN:VCALENDAR
VERSION:2.0
PRODID:-//hacksw/handcal//NONSGML v1.0//EN
BEGIN:VEVENT
UID:8ac68a0e7d85a1f451d60796e90db6bd@yourhost.test
DTSTAMP:20260422T103817Z
DTSTART:20110908
DTEND:20200313
SUMMARY:The Childrens Art Museum
END:VEVENT
END:VCALENDAR