BEGIN:VCALENDAR
VERSION:2.0
PRODID:-//hacksw/handcal//NONSGML v1.0//EN
BEGIN:VEVENT
UID:a5c89462e6f6bf6c291e5d52f370c4ec@yourhost.test
DTSTAMP:20260422T103949Z
DTSTART:20140523
DTEND:20140921
SUMMARY:BÅRD BREIVIK. HISTORY
END:VEVENT
END:VCALENDAR