BEGIN:VCALENDAR
VERSION:2.0
PRODID:-//hacksw/handcal//NONSGML v1.0//EN
BEGIN:VEVENT
UID:3bdee84ccaba4f9a27579eb5bf69f53c@yourhost.test
DTSTAMP:20260421T095342Z
DTSTART:20221210
DTEND:20221211
SUMMARY:Familieverksted: Skeivt juleverksted
END:VEVENT
END:VCALENDAR